BEGIN:VCALENDAR
PRODID:-//kirchenweb.ch gmbh//veranstaltungsausgabe v2.0//DE
VERSION:2.0
METHOD:PUBLISH
BEGIN:VEVENT
DTSTART:20261115T160000Z
DTEND:20261115T170000Z
LOCATION:Reformierte Kirche\, \,
TRANSP:OPAQUE
SEQUENCE:0
UID:13853-veranstaltung@ref-rueschlikon.ch
DTSTAMP:20260416T082532Z
DESCRIPTION:Einladung zum Konzert des chor rüschlikon.\n\nWir freuen uns
  über Ihre Teilnahme.\n\nhttp://www.chor-rueschlikon.ch/home.html\n
 \nKontakt: Andi Hofmann\n\nWeitere Infos:
  https://www.ref-rueschlikon.ch/veranstaltung/13853
SUMMARY:Konzert chor rüschlikon
PRIORITY:5
X-MICROSOFT-CDO-IMPORTANCE:1
CLASS:PUBLIC
END:VEVENT
END:VCALENDAR
