BEGIN:VCALENDAR
PRODID:-//kirchenweb.ch gmbh//veranstaltungsausgabe v2.0//DE
VERSION:2.0
METHOD:PUBLISH
BEGIN:VEVENT
DTSTART:20260624T173000Z
DTEND:20260624T183000Z
LOCATION:Reformierte Kirche\, \,
TRANSP:OPAQUE
SEQUENCE:0
UID:13794-veranstaltung@ref-rueschlikon.ch
DTSTAMP:20260330T125647Z
DESCRIPTION:Informationsabend für Interessierte betreffend
  Pilger-Wandertage 2026.\n\nKontakt: Pfr. Ralph Müller\n\nWeitere Infos:
  https://www.ref-rueschlikon.ch/veranstaltung/13794
SUMMARY:Informationsabend Pilger-Wandertage 2026
PRIORITY:5
X-MICROSOFT-CDO-IMPORTANCE:1
CLASS:PUBLIC
END:VEVENT
END:VCALENDAR
