BEGIN:VCALENDAR
PRODID:-//kirchenweb.ch gmbh//veranstaltungsausgabe v2.0//DE
VERSION:2.0
METHOD:PUBLISH
BEGIN:VEVENT
DTSTART:20260416T123000Z
DTEND:20260416T133000Z
LOCATION:Vereinslokal\, Weingartenstrasse 10\, \,
TRANSP:OPAQUE
SEQUENCE:0
UID:13785-veranstaltung@ref-rueschlikon.ch
DTSTAMP:20260325T105001Z
DESCRIPTION:Du willst Deutsch üben - einfach\, locker und in guter
  Gesellschaft?\nDann komm zum Sprachtreff ins Café International! \n\nIn
  kleinen Gruppen sprechen wir über Alltag\, Kultur und mehr. \n\nFür
  alle Sprachniveaus geeignet.\n\nWeitere Daten 2026\n16. April\n28. Mai
 \n11. Juni\n25. Juni\n9. Juli\n27. August\n\njeweils 14.30 bis 15.30 Uhr -
  im Café International\, Weingartenstrasse 10\, Rüschlikon\n\n\nHINWEIS:
  Das reguläre Café International findet wie gewohnt ab 15.00 Uhr statt.
 \n\nKontakt: Isabella Schmidt\n\nWeitere Infos:
  https://www.ref-rueschlikon.ch/veranstaltung/13785
SUMMARY:Sprachtreff im Café International
PRIORITY:5
X-MICROSOFT-CDO-IMPORTANCE:1
CLASS:PUBLIC
END:VEVENT
END:VCALENDAR
