BEGIN:VCALENDAR
PRODID:-//kirchenweb.ch gmbh//veranstaltungsausgabe v2.0//DE
VERSION:2.0
METHOD:PUBLISH
BEGIN:VEVENT
DTSTART:20260531T150000Z
DTEND:20260531T170000Z
LOCATION:Reformierte Kirche\, \,
TRANSP:OPAQUE
SEQUENCE:0
UID:13629-veranstaltung@ref-rueschlikon.ch
DTSTAMP:20260319T101549Z
DESCRIPTION:A-capella-Musik vom Feinsten: Musical-Songs\, Schwyzer Mundart
  und Pop-Songs aus den letzten 80 Jahren. 11 Stimmen - und\, nur
  manchmal\, ein Klavier.\n\nEintritt frei\, Kollekte\n
 \nhttps://www.euphonic.ch/\n\nKontakt: Frau Zimmerli\n\nWeitere Infos:
  https://www.ref-rueschlikon.ch/veranstaltung/13629
SUMMARY:Konzert Vocal Ensemble Euphonic
PRIORITY:5
X-MICROSOFT-CDO-IMPORTANCE:1
CLASS:PUBLIC
END:VEVENT
END:VCALENDAR
