BEGIN:VCALENDAR
PRODID:-//kirchenweb.ch gmbh//veranstaltungsausgabe v2.0//DE
VERSION:2.0
METHOD:PUBLISH
BEGIN:VEVENT
DTSTART:20260326T140000Z
DTEND:20260326T150000Z
LOCATION:Vereinslokal\, Weingartenstrasse 10\, \,
TRANSP:OPAQUE
SEQUENCE:0
UID:13619-veranstaltung@ref-rueschlikon.ch
DTSTAMP:20260317T091253Z
DESCRIPTION:Du willst Deutsch üben - einfach\, locker und in guter
  Gesellschaft?\nDann komm zum Sprachtreff ins Café International! \n\nIn
  kleinen Gruppen sprechen wir über Alltag\, Kultur und mehr. \n\nFür
  alle Sprachniveaus geeignet.\n\nWeitere Daten 2026 --> folgen\n\n26.
  März - fällt leider aus!\n\njeweils 15.00 bis 16.00 Uhr - im Café
  International\, Weingartenstrasse 10\, Rüschlikon\n\n\nHINWEIS: Das
  reguläre Café International findet wie gewohnt ab 15.00 Uhr statt.\n
 \nKontakt: Isabella Schmidt\n\nWeitere Infos:
  https://www.ref-rueschlikon.ch/veranstaltung/13619
SUMMARY:***ABGESAGT*** Sprachtreff
PRIORITY:5
X-MICROSOFT-CDO-IMPORTANCE:1
CLASS:PUBLIC
END:VEVENT
END:VCALENDAR
