BEGIN:VCALENDAR
PRODID:-//kirchenweb.ch gmbh//veranstaltungsausgabe v2.0//DE
VERSION:2.0
METHOD:PUBLISH
BEGIN:VEVENT
DTSTART:20260419T150000Z
DTEND:20260419T160000Z
LOCATION:Reformierte Kirche\, \,
TRANSP:OPAQUE
SEQUENCE:0
UID:13568-veranstaltung@ref-rueschlikon.ch
DTSTAMP:20260416T082340Z
DESCRIPTION:Einladung zum Chorkonzert UNTERWEGS vom 19. April\n\nDas
  Anfang Jahr gestartete Mit-Sing Projekt "UNTERWEGS" erfährt weiterhin
  grossen Zuspruch\, über 60 Sängerinnen und Sänger bereiten sich auf
  das Konzert vom 19. April vor.\n\nIm "CHORKONZERT UNTERWEGS" singt der
  chor rüschlikon unter der Leitung von Elias Schäfer und begeleitet vom
  Pianisten André Desponds Lieder von Liebe und Leid\, Ernstem und
  Heiterem\, von Gruppen und Paaren unterwegs zu Land und auf hoher See.\n
 \nWir freuen uns über Ihre Teilnahme – Eintritt frei mit Kollekte. \n
 \nhttp://www.chor-rueschlikon.ch/home.html\n\nKontakt: Bernhard Elsener\n
 \nWeitere Infos: https://www.ref-rueschlikon.ch/veranstaltung/13568
SUMMARY:Konzert chor rüschlikon
PRIORITY:5
X-MICROSOFT-CDO-IMPORTANCE:1
CLASS:PUBLIC
END:VEVENT
END:VCALENDAR
