BEGIN:VCALENDAR
PRODID:-//kirchenweb.ch gmbh//veranstaltungsausgabe v2.0//DE
VERSION:2.0
METHOD:PUBLISH
BEGIN:VEVENT
DTSTART:20260509T080000Z
DTEND:20260509T100000Z
LOCATION:extern\, Stadtführung durch Zürich\, \,
TRANSP:OPAQUE
SEQUENCE:0
UID:13559-veranstaltung@ref-rueschlikon.ch
DTSTAMP:20260409T091458Z
DESCRIPTION:«Seidentüechli und Bankgeschäfte»\n\nStadtführung in
  Zürich mit Barbara Hutzl-Ronge\n9. Mai 2026\, 10.00 – 12.00 Uhr\n\nDie
  Reformation in Zürich & die Locarner Glaubensflüchtlinge\n\nAm
  Samstagvormittag führt uns die Autorin des Longsellers „Zürich –
  Spaziergänge durch 500 Jahre überraschende Stadtgeschichten“ durch
  Zürich. Sie erzählt von der Aufnahme der Locarner
  Glaubensflüchtlinge\, ihrer Rolle in der Reformation und ihrem Beitrag
  zur Stadtentwicklung. Themen sind Ängste und Chancen der Zürcher\, die
  Entstehung der Seidenindustrie\, der Aufstieg des Fernhandels sowie die
  Geschichten bedeutender Locarner Familien\, die Zürich nachhaltig
  prägten. Wir erfahren auch\, welcher Herr aus Kilchberg entscheidend zum
  Erfolg einer Seidenfirma beigetragen hat\, warum in der Folge grosse
  Seidenfabriken am Zürichsee entstanden und Zürich sich zu einer
  Bankenstadt entwickelte. \n\n\nNur mit Anmeldung.\n\nDie Hin- und
  Rückreisereise erfolgt individuell.\n\nZum Ausklang laden wir herzlich
  zu einem Umtrunk im Restaurant Hotel Bourbon ein.\nAnschliessend besteht
  die Möglichkeit zu einem gemeinsamen Mittagessen (auf eigene Kosten).\n
 \nDie Führung eignet sich auch für geschichtlich interessierte
  Jugendliche.\n\nKostenbeteiligung:\n20.- / Erwachsene\n15.- /
  AHV-Bezüger\n\nAuskunft: Isabella Schmidt\,
  isabella.schmidt@refrueschlikon.ch\, 044 724 10 28\n\nKontakt: Isabella
  Schmidt\n\nWeitere Infos:
  https://www.ref-rueschlikon.ch/veranstaltung/13559
SUMMARY:Gemeindeanlass für ALLE: Stadtführung: Seidentüechli &
  Bankgeschäfte
PRIORITY:5
X-MICROSOFT-CDO-IMPORTANCE:1
CLASS:PUBLIC
END:VEVENT
END:VCALENDAR
