BEGIN:VCALENDAR
PRODID:-//kirchenweb.ch gmbh//veranstaltungsausgabe v2.0//DE
VERSION:2.0
METHOD:PUBLISH
BEGIN:VEVENT
DTSTART:20260321T170000Z
DTEND:20260321T180000Z
LOCATION:Reformierte Kirche\, \,
TRANSP:OPAQUE
SEQUENCE:0
UID:13555-veranstaltung@ref-rueschlikon.ch
DTSTAMP:20260310T103703Z
DESCRIPTION:Hispanic Dance (with a Blue Touch)\n\nEin spektakuläres
  musikalisches Erlebnis\, das Grenzen sprengt und Stimmungen entlarvt:\n
 \n„Hispanic Dance (with a Blue Touch)” lädt Sie ein zu einer
  mitreissenden Reise durch\nspanische\, lateinamerikanische und
  weltmusikalische Klangwelten – sinnlich\,\nenergiegeladen\, poetisch
  und voller Leidenschaft.\n\nDieses aussergewöhnliche Konzert vereint
  hochkarätige Musiker in einer international\ngefeierten Besetzung. In
  raffinierten Arrangements verschmelzen Klassik und Jazz zu\nfunkelnden
  musikalischen Perlen\, die Herz\, Geist und Sinne gleichermassen
  berühren.\n\nBeschwingte Rhythmen\, liebevolle Melodien und hypnotische
  Farben lassen ein Klangbild\nentstehen\, das noch lange nachhallt.\n\nDie
  Jazz Combo\nLorenzo Meo – italienischer Klavier-Virtuose\nMichal
  Stanikowski – polnisch-deutscher Gitarrist\nKarl Koch – Schlagzeug\,
  Schwenningen\nSofus Gleditsch – Kontrabass\, Zürich\n\nDas Ensemble
  formierte sich aus preisgekrönten\, international gefragten Musikern\,
 \nderen Einspielungen bei renommierten Labels wie Naxos und Sony Music
  erschienen\nsind. Nach gefeierten und ausverkauften Konzerten befindet
  sich das Ensemble auf dem\nWeg zu geplanten CD-Produktionen.\n
 \nProgramm-Highlights\nIm Zentrum des Abends stehen zwei Meilensteine der
  Musikgeschichte:\nConcierto de Aranjuez - Adagio von Joaquín Rodrigo
 \nEin Werk von überwältigender Schönheit und Erfindungsreichtum –
  insbesondere das\nberühmte Adagio\, das mit seiner berührenden Tiefe zu
  den bewegendsten Momenten\nder klassischen Musik zählt.\nConcerto for
  Classical Guitar & Jazz Piano von Claude Bolling\nEin farbenreiches\,
  elegantes Crossover-Werk\, komponiert für den Jazzpianisten George
 \nShearing und den klassischen Gitarristen Angel Romero – virtuos\,
  verspielt und voller\nCharme.\n\nErgänzt wird das Programm durch
  temperamentvolle Stücke wie\n„Canto de Ossanha“ von Baden Powell
  sowie „Entre dos aguas“ von Paco de Lucía\, die\ndem Abend
  zusätzliche rhythmische Glut und mediterrane Seele verleihen.\n\n✨ Das
  Ensemble freut sich auf eine intensive Begegnung\, einen lebendigen
 \nkünstlerischen Austausch – während des Konzerts und im persönlichen
  Gespräch\ndanach.\n\nEin Abend voller Farben\, Leidenschaft und
  musikalischer Magie.\n\nVerpassen Sie dieses aussergewöhnliche
  Konzertereignis nicht.\n\nKontakt: Michal Stanikowski\n\nWeitere Infos:
  https://www.ref-rueschlikon.ch/veranstaltung/13555
SUMMARY:KONZERT HISPANIC DANCE (with a blue touch)
PRIORITY:5
X-MICROSOFT-CDO-IMPORTANCE:1
CLASS:PUBLIC
END:VEVENT
END:VCALENDAR
