BEGIN:VCALENDAR
PRODID:-//kirchenweb.ch gmbh//veranstaltungsausgabe v2.0//DE
VERSION:2.0
METHOD:PUBLISH
BEGIN:VEVENT
DTSTART:20260610T080000Z
DTEND:20260610T090000Z
LOCATION:AbeggHuus\, Alte Landstrasse 68\, Rüschlikon\, \,
TRANSP:OPAQUE
SEQUENCE:0
UID:13535-veranstaltung@ref-rueschlikon.ch
DTSTAMP:20251118T091756Z
DESCRIPTION:Kontakt: Evi Laubi 044 724 20 75 / Toni Senn 044 724 05 76\n
 \nWeitere Infos: https://www.ref-rueschlikon.ch/veranstaltung/13535
SUMMARY:Offenes Singen
PRIORITY:5
X-MICROSOFT-CDO-IMPORTANCE:1
CLASS:PUBLIC
END:VEVENT
END:VCALENDAR
