BEGIN:VCALENDAR
PRODID:-//kirchenweb.ch gmbh//veranstaltungsausgabe v2.0//DE
VERSION:2.0
METHOD:PUBLISH
BEGIN:VEVENT
DTSTART:20260619T170000Z
DTEND:20260619T183000Z
LOCATION:Reformierte Kirche\, \,
TRANSP:OPAQUE
SEQUENCE:0
UID:13523-veranstaltung@ref-rueschlikon.ch
DTSTAMP:20260416T085557Z
DESCRIPTION:Tanz in den Sommer\n\nWir schreiben nicht nur über das Glück
  des Tanzes (Editorial 27.6.25)\, sondern wir möchten das Glück des
  Tanzes auch in unserer Kirche erfahren:  die Lust\, die Beine zu
  bewegen\, Gemeinschaft zu erleben und für einen Moment den Alltag hinter
  sich zu lassen. \n\nAm 19. Juni laden wir alle Tanzfreudigen zu einem
  Abend mit Bewegung und Musik in unsere Kirche ein. Es erklingen
  fröhliche Melodien aus verschiedenen Musikrichtungen\, die an diesem
  Abend den Rhythmus angeben.  \n\nYanti Malzan\, eine junge Tanzlehrerin
  mit breiter Tanzerfahrung wird uns durch den Abend begleiten. Unter ihrer
  fröhlichen Anleitung wird es ein Vergnügen sein\, sich für eine kurze
  Zeit auf eine lustvolle Ebene entführen zu lassen. Einer ihrer
  Leitsätze lautet: "Ohne Musik und Tanz wird es still."\n\nTanzen Sie
  mit!  \n\nKarin Eberhart\, Danielle Maron für das ökumenische
  Projektteam\n\nFreitag\, 19. Juni 2026\n19:00 - 20:30 Uhr\, Reformierte
  Kirche \nBequeme Kleidung\, Tanzschuhe\, barfuss\n\nEintritt frei /
  Kollekte zugunsten des ökumenischen Projekts.\n\n\nKontakt: Karin
  Eberhart\, Danielle Maron\n\nWeitere Infos:
  https://www.ref-rueschlikon.ch/veranstaltung/13523
SUMMARY:Tanzen in der Kirche
PRIORITY:5
X-MICROSOFT-CDO-IMPORTANCE:1
CLASS:PUBLIC
END:VEVENT
END:VCALENDAR
