BEGIN:VCALENDAR
PRODID:-//kirchenweb.ch gmbh//veranstaltungsausgabe v2.0//DE
VERSION:2.0
METHOD:PUBLISH
BEGIN:VEVENT
DTSTART:20260602T070000Z
DTEND:20260602T090000Z
LOCATION:Sitzungszimmer B39\, \,
TRANSP:OPAQUE
SEQUENCE:0
UID:13498-veranstaltung@ref-rueschlikon.ch
DTSTAMP:20260323T123245Z
DESCRIPTION:Kontakt: Sonja Lüchinger\, 044 724 06 90 oder 079 583 85 14\n
 \nWeitere Infos: https://www.ref-rueschlikon.ch/veranstaltung/13498
SUMMARY:Computeria
PRIORITY:5
X-MICROSOFT-CDO-IMPORTANCE:1
CLASS:PUBLIC
END:VEVENT
END:VCALENDAR
