BEGIN:VCALENDAR
PRODID:-//kirchenweb.ch gmbh//veranstaltungsausgabe v2.0//DE
VERSION:2.0
METHOD:PUBLISH
BEGIN:VEVENT
DTSTART:20260622T130000Z
DTEND:20260622T150000Z
LOCATION:Reformierte Kirche\, \,
TRANSP:OPAQUE
SEQUENCE:0
UID:13457-veranstaltung@ref-rueschlikon.ch
DTSTAMP:20260323T124250Z
DESCRIPTION:Wir lesen: Hansjörg Schneider "Kind der Aare"\n\nKontakt:
  Pfr. Ralph Müller\n\nWeitere Infos:
  https://www.ref-rueschlikon.ch/veranstaltung/13457
SUMMARY:Literaturtreff - Wir lesen
PRIORITY:5
X-MICROSOFT-CDO-IMPORTANCE:1
CLASS:PUBLIC
END:VEVENT
END:VCALENDAR
