BEGIN:VCALENDAR
PRODID:-//kirchenweb.ch gmbh//veranstaltungsausgabe v2.0//DE
VERSION:2.0
METHOD:PUBLISH
BEGIN:VEVENT
DTSTART:20261119T083000Z
DTEND:20261119T093000Z
LOCATION:Reformierte Kirche\, Bahnhofstrasse 39\, 8803 Rüschlikon
TRANSP:OPAQUE
SEQUENCE:0
UID:13447-veranstaltung@ref-rueschlikon.ch
DTSTAMP:20251218T102902Z
DESCRIPTION:Gemeinsam lesen wir einen biblischen Text und nehmen uns
  Zeit\, ihn in Ruhe und mit Blick auf seine Bedeutung zu erschliessen. Ein
  Lied und ein Gebet begleiten das Treffen und verleihen ihm einen
  andachtsvollen Charakter. Im Mittelpunkt steht das gemeinsame Verstehen
  biblischer Texte – Vorkenntnisse sind nicht erforderlich\, alle
  Interessierten sind herzlich willkommen.\n\njeweils donnerstagvormittags
 \n9.30 – 11.00 Uhr\, Reformierte Kirche\n\n\nKontakt: Pfr. Ralph Müller
 \n\nWeitere Infos: https://www.ref-rueschlikon.ch/veranstaltung/13447
SUMMARY:Bibelseminar
PRIORITY:5
X-MICROSOFT-CDO-IMPORTANCE:1
CLASS:PUBLIC
END:VEVENT
END:VCALENDAR
