BEGIN:VCALENDAR
PRODID:-//kirchenweb.ch gmbh//veranstaltungsausgabe v2.0//DE
VERSION:2.0
METHOD:PUBLISH
BEGIN:VEVENT
DTSTART:20260626T160000Z
DTEND:20260626T190000Z
LOCATION:Reformierte Kirche\, \,
TRANSP:OPAQUE
SEQUENCE:0
UID:13439-veranstaltung@ref-rueschlikon.ch
DTSTAMP:20251124T160321Z
DESCRIPTION:Die Katholische und Reformierte Kirche Rüschlikon laden
  herzlich zu einem entspannten Sommerabend ein. Wenn Sie allein leben und
  Lust auf Gesellschaft\, gute Gespräche und feines Essen haben – dann
  sind Sie genau richtig bei uns!\nGrilladen\, Salate und kühle Getränke
  stehen bereit – wir freuen uns auf einen schönen Abend mit Ihnen!
 \nUnkostenbeitrag: CHF 25.00 pro Person\n\n\n\nKontakt: Isabella Schmidt\n
 \nWeitere Infos: https://www.ref-rueschlikon.ch/veranstaltung/13439
SUMMARY:Grillabend für Singles
PRIORITY:5
X-MICROSOFT-CDO-IMPORTANCE:1
CLASS:PUBLIC
END:VEVENT
END:VCALENDAR
