BEGIN:VCALENDAR
PRODID:-//kirchenweb.ch gmbh//veranstaltungsausgabe v2.0//DE
VERSION:2.0
METHOD:PUBLISH
BEGIN:VEVENT
DTSTART:20260820T130000Z
DTEND:20260820T190000Z
LOCATION:Vereinslokal\, Weingartenstrasse 10\, \,
TRANSP:OPAQUE
SEQUENCE:0
UID:13436-veranstaltung@ref-rueschlikon.ch
DTSTAMP:20260407T081935Z
DESCRIPTION:\n\nKontakt: Emanuèle Jüdt\n\nWeitere Infos:
  https://www.ref-rueschlikon.ch/veranstaltung/13436
SUMMARY:Café International
PRIORITY:5
X-MICROSOFT-CDO-IMPORTANCE:1
CLASS:PUBLIC
END:VEVENT
END:VCALENDAR
