BEGIN:VCALENDAR
PRODID:-//kirchenweb.ch gmbh//veranstaltungsausgabe v2.0//DE
VERSION:2.0
METHOD:PUBLISH
BEGIN:VEVENT
DTSTART:20260416T130000Z
DTEND:20260416T190000Z
LOCATION:Vereinslokal\, Weingartenstrasse 10\, \,
TRANSP:OPAQUE
SEQUENCE:0
UID:13432-veranstaltung@ref-rueschlikon.ch
DTSTAMP:20260407T081828Z
DESCRIPTION:Unsere KONF2026-Klasse kocht im Café International...\n
 \nKontakt: Emanuèle Jüdt\n\nWeitere Infos:
  https://www.ref-rueschlikon.ch/veranstaltung/13432
SUMMARY:Café International
PRIORITY:5
X-MICROSOFT-CDO-IMPORTANCE:1
CLASS:PUBLIC
END:VEVENT
END:VCALENDAR
