BEGIN:VCALENDAR
PRODID:-//kirchenweb.ch gmbh//veranstaltungsausgabe v2.0//DE
VERSION:2.0
METHOD:PUBLISH
BEGIN:VEVENT
DTSTART:20260621T091500Z
DTEND:20260621T101500Z
LOCATION:Reformierte Kirche\, \,
TRANSP:OPAQUE
SEQUENCE:0
UID:13425-veranstaltung@ref-rueschlikon.ch
DTSTAMP:20251028T113122Z
DESCRIPTION:Kontakt: Noëmi Bischoff Merz\n\nWeitere Infos:
  https://www.ref-rueschlikon.ch/veranstaltung/13425
SUMMARY:Kirchgemeindeversammlung
PRIORITY:5
X-MICROSOFT-CDO-IMPORTANCE:1
CLASS:PUBLIC
END:VEVENT
END:VCALENDAR
