BEGIN:VCALENDAR
PRODID:-//kirchenweb.ch gmbh//veranstaltungsausgabe v2.0//DE
VERSION:2.0
METHOD:PUBLISH
BEGIN:VEVENT
DTSTART:20260518T173000Z
DTEND:20260518T190000Z
LOCATION:Pfarrhaus/Pilgerweg 1\, \,
TRANSP:OPAQUE
SEQUENCE:0
UID:13314-veranstaltung@ref-rueschlikon.ch
DTSTAMP:20251223T105018Z
DESCRIPTION:Wir treffen uns zum gemeinsamen Gebet\, lesen in der Bibel und
  nehmen uns Zeit für Austausch und Gemeinschaft. Unser Hauskreis ist ein
  offenes Angebot für alle\, die diese Form des Miteinanders schätzen –
  unabhängig von einer bestimmten Glaubenshaltung. Für Getränke und
  kleine Snacks ist gesorgt.\n\njeweils montagabends\, 19.30 - 21.00 Uhr
 \nPfarrhaus\, Pilgerweg 1\n\nKontakt: Pfr. Ralph Müller\n\nWeitere Infos:
  https://www.ref-rueschlikon.ch/veranstaltung/13314
SUMMARY:Abendgespräch im Pfarrhaus
PRIORITY:5
X-MICROSOFT-CDO-IMPORTANCE:1
CLASS:PUBLIC
END:VEVENT
END:VCALENDAR
