BEGIN:VCALENDAR
PRODID:-//kirchenweb.ch gmbh//veranstaltungsausgabe v2.0//DE
VERSION:2.0
METHOD:PUBLISH
BEGIN:VEVENT
DTSTART:20260320T170000Z
DTEND:20260320T173000Z
LOCATION:Reformierte Kirche\, Bahnhofstrasse 39\, 8803 Rüschlikon
TRANSP:OPAQUE
SEQUENCE:0
UID:13303-veranstaltung@ref-rueschlikon.ch
DTSTAMP:20251104T131357Z
DESCRIPTION:Tagesabschluss\, Austausch\n\nKontakt: Pfr. Ralph Müller\n
 \nWeitere Infos: https://www.ref-rueschlikon.ch/veranstaltung/13303
SUMMARY:Tagesabschluss mit Meditation in der Fastenwoche
PRIORITY:5
X-MICROSOFT-CDO-IMPORTANCE:1
CLASS:PUBLIC
END:VEVENT
END:VCALENDAR
