BEGIN:VCALENDAR
PRODID:-//kirchenweb.ch gmbh//veranstaltungsausgabe v2.0//DE
VERSION:2.0
METHOD:PUBLISH
BEGIN:VEVENT
DTSTART;VALUE=DATE:20260813
DTEND;VALUE=DATE:20260814
LOCATION:Rund um den Klöntalersee\, \,
TRANSP:OPAQUE
SEQUENCE:0
UID:13282-veranstaltung@ref-rueschlikon.ch
DTSTAMP:20260122T090545Z
DESCRIPTION:Anmeldung/Info: Fredi Frei\nfreifredi@hispeed.ch\, 079 376 94
  88\n\nKontakt: katja.oel@refrueschlikon.ch\n\nWeitere Infos:
  https://www.ref-rueschlikon.ch/veranstaltung/13282
SUMMARY:Senioren-Wanderung
PRIORITY:5
X-MICROSOFT-CDO-IMPORTANCE:1
CLASS:PUBLIC
END:VEVENT
END:VCALENDAR
