BEGIN:VCALENDAR
PRODID:-//kirchenweb.ch gmbh//veranstaltungsausgabe v2.0//DE
VERSION:2.0
METHOD:PUBLISH
BEGIN:VEVENT
DTSTART:20260321T090000Z
DTEND:20260321T150000Z
LOCATION:Reformiertes Kirchgemeindehaus Kilchberg\, Stockenstrasse 150\,
  8802 Kilchberg
TRANSP:OPAQUE
SEQUENCE:0
UID:13274-veranstaltung@ref-rueschlikon.ch
DTSTAMP:20260310T093329Z
DESCRIPTION:Letzte-Hilfe-Kurs\n\nder Kurs ist voll besetzt / ausgebucht!
  Bei Interesse bitte an Isabella Schmidt wenden.\n\nWenn sich das Leben
  dem Ende nähert\, erleben Betroffene sowie An- und Zugehörige neben
  Angst und Trauer häufig auch Gefühle von Hilflosigkeit und
  Überforderung.\nNach den beiden sehr gut besuchten
  „Letzte-Hilfe“-Kursen Anfang 2025 bieten wir im kommenden März in
  Kilchberg erneut einen solchen Kurs an.\n\nSterben\, Tod und Trauer
  betreffen uns alle – früher oder später. Umso wichtiger ist es\,
  vorbereitet zu sein:\nWas geschieht\, wenn ein Mensch stirbt?\nWie
  können wir Sterbende einfühlsam begleiten und unterstützen?\nWie
  können wir uns selbst auf das Lebensende vorbereiten?\n\nIn unserem
  „Letzte-Hilfe“-Kurs\, geleitet von Maja Moser\, dipl. Pflegefachfrau
  HF\, und Renate Hauser\, Seelsorgerin im See-Spital Kilchberg\, möchten
  wir Sie ermutigen\, Sterbenden beizustehen und sich mit der eigenen
  Endlichkeit auseinanderzusetzen.\n\nDer Kurs vermittelt grundlegendes
  Wissen und richtet sich an alle interessierten Erwachsenen.\n\nSamstag\,
  21. März 2026\n10.00 – 16.00 Uhr\, Ref. Kirchgemeindehaus Kilchberg
 \nStockenstr. 150\, Kilchberg\n\n\nDie Teilnahme ist kostenlos\n
 \nMittagessen: selbst mitgebrachtes Picknick\nGetränke vorhanden\n\n
 \nKontakt: Isabella Schmidt\n\nWeitere Infos:
  https://www.ref-rueschlikon.ch/veranstaltung/13274
SUMMARY:***AUSGEBUCHT*** Letzte Hilfe-Kurs in Kilchberg
PRIORITY:5
X-MICROSOFT-CDO-IMPORTANCE:1
CLASS:PUBLIC
END:VEVENT
END:VCALENDAR
