BEGIN:VCALENDAR
PRODID:-//kirchenweb.ch gmbh//veranstaltungsausgabe v2.0//DE
VERSION:2.0
METHOD:PUBLISH
BEGIN:VEVENT
DTSTART:20261209T143000Z
DTEND:20261209T153000Z
LOCATION:Gartenhalle Nidelbad\, Eggrainweg 3\, Rüschlikon\, \,
TRANSP:OPAQUE
SEQUENCE:0
UID:13064-veranstaltung@ref-rueschlikon.ch
DTSTAMP:20251009T131216Z
DESCRIPTION:--> nähere Infos folgen..\n\nKontakt: Isabella Schmidt\n
 \nWeitere Infos: https://www.ref-rueschlikon.ch/veranstaltung/13064
SUMMARY:Senioren-Adventsfeier
PRIORITY:5
X-MICROSOFT-CDO-IMPORTANCE:1
CLASS:PUBLIC
END:VEVENT
END:VCALENDAR
