BEGIN:VCALENDAR
PRODID:-//kirchenweb.ch gmbh//veranstaltungsausgabe v2.0//DE
VERSION:2.0
METHOD:PUBLISH
BEGIN:VEVENT
DTSTART:20261104T133000Z
DTEND:20261104T150000Z
LOCATION:Kirchenstube\, Bahnhofstrasse 39\, 8803 Rüschlikon
TRANSP:OPAQUE
SEQUENCE:0
UID:13062-veranstaltung@ref-rueschlikon.ch
DTSTAMP:20251009T130921Z
DESCRIPTION:--> weitere Infos folgen...\n\nKontakt: Isabella Schmidt\n
 \nWeitere Infos: https://www.ref-rueschlikon.ch/veranstaltung/13062
SUMMARY:Senioren-Nachmittag
PRIORITY:5
X-MICROSOFT-CDO-IMPORTANCE:1
CLASS:PUBLIC
END:VEVENT
END:VCALENDAR
