BEGIN:VCALENDAR
PRODID:-//kirchenweb.ch gmbh//veranstaltungsausgabe v2.0//DE
VERSION:2.0
METHOD:PUBLISH
BEGIN:VEVENT
DTSTART:20260603T070000Z
DTEND:20260603T163000Z
LOCATION:extern\, \,
TRANSP:OPAQUE
SEQUENCE:0
UID:13061-veranstaltung@ref-rueschlikon.ch
DTSTAMP:20251023T092345Z
DESCRIPTION:Senioren - Ausflug\n\n--> weitere Infos folgen...\n\nKontakt:
  Isabella Schmidt\n\nWeitere Infos:
  https://www.ref-rueschlikon.ch/veranstaltung/13061
SUMMARY:Senioren-Ausflug
PRIORITY:5
X-MICROSOFT-CDO-IMPORTANCE:1
CLASS:PUBLIC
END:VEVENT
END:VCALENDAR
