BEGIN:VCALENDAR
PRODID:-//kirchenweb.ch gmbh//veranstaltungsausgabe v2.0//DE
VERSION:2.0
METHOD:PUBLISH
BEGIN:VEVENT
DTSTART:20260401T123000Z
DTEND:20260401T140000Z
LOCATION:Kirchenstube\, Bahnhofstrasse 39\, 8803 Rüschlikon
TRANSP:OPAQUE
SEQUENCE:0
UID:13060-veranstaltung@ref-rueschlikon.ch
DTSTAMP:20260317T094212Z
DESCRIPTION:Daheim - unterwegs - Bildvortrag mit Vivien Schwizer\nBergün
  – Natur\, Bahn und Schlittelspass\n\nBergün begeistert als charmantes
  Bahndorf Familien\, Natur- und Kulturfreunde das ganze Jahr über. Im
  Winter lockt die gesperrte Albula Passstrasse mit Rodelspass\, im
  Frühling und Sommer blühen die Alpenwiesen\, und im Herbst tauchen
  goldene Lärchen die Landschaft in warme Farben.\n\nSeit über 100 Jahren
  prägt die Rhätische Bahn das Dorfbild. Die Albulalinie mit ihren
  Viadukten und Kehrtunnels gehört seit 2008 zum UNESCO-Welterbe. Auch das
  Bahnmuseum im Dorf ist einen Besuch wert. Der neue Albulatunnel verbindet
  seit 2024 Preda mit Spinas im Engadin.\n\nBergün vereint Naturerlebnis\,
  Bahngeschichte und gelebte Tradition. In ihrem Vortrag nimmt Referentin
  Viviane Schwizer\, Journalistin BR aus Horgen\, das Publikum mit auf eine
  bildreiche Reise in dieses vielfältige Bergdorf.\n\nAndré Jacober	078
  804 63 67     andre.jacober@kath-tharue.ch\nIsabella Schmidt	044 724 10
  28     isabella.schmidt@refrueschlikon.ch\n\n\nKontakt: Isabella Schmidt
 \n\nWeitere Infos: https://www.ref-rueschlikon.ch/veranstaltung/13060
SUMMARY:Senioren-Nachmittag - Bildvortrag
PRIORITY:5
X-MICROSOFT-CDO-IMPORTANCE:1
CLASS:PUBLIC
END:VEVENT
END:VCALENDAR
