BEGIN:VCALENDAR
PRODID:-//kirchenweb.ch gmbh//veranstaltungsausgabe v2.0//DE
VERSION:2.0
METHOD:PUBLISH
BEGIN:VEVENT
DTSTART:20260909T123000Z
DTEND:20260909T140000Z
LOCATION:Schiffsteg Rüschlikon\, \, 8803 Rüschlikon
TRANSP:OPAQUE
SEQUENCE:0
UID:13058-veranstaltung@ref-rueschlikon.ch
DTSTAMP:20251009T125328Z
DESCRIPTION:Schifffahrt auf dem Zürisee\nMittwoch\, 9. September 2026\n
 \n--> weitere Infos folgen....\n\nKontakt: Isabella Schmidt\n\nWeitere
  Infos: https://www.ref-rueschlikon.ch/veranstaltung/13058
SUMMARY:Senioren-Nachmittag - Schifffahrt
PRIORITY:5
X-MICROSOFT-CDO-IMPORTANCE:1
CLASS:PUBLIC
END:VEVENT
END:VCALENDAR
