BEGIN:VCALENDAR
PRODID:-//kirchenweb.ch gmbh//veranstaltungsausgabe v2.0//DE
VERSION:2.0
METHOD:PUBLISH
BEGIN:VEVENT
DTSTART:20261007T123000Z
DTEND:20261007T140000Z
LOCATION:Katholische Kirche\, \,
TRANSP:OPAQUE
SEQUENCE:0
UID:13057-veranstaltung@ref-rueschlikon.ch
DTSTAMP:20251009T124901Z
DESCRIPTION:Kontakt: Isabella Schmidt\n\nWeitere Infos:
  https://www.ref-rueschlikon.ch/veranstaltung/13057
SUMMARY:Senioren-Nachmittag
PRIORITY:5
X-MICROSOFT-CDO-IMPORTANCE:1
CLASS:PUBLIC
END:VEVENT
END:VCALENDAR
