BEGIN:VCALENDAR
PRODID:-//kirchenweb.ch gmbh//veranstaltungsausgabe v2.0//DE
VERSION:2.0
METHOD:PUBLISH
BEGIN:VEVENT
DTSTART:20260506T123000Z
DTEND:20260506T140000Z
LOCATION:Katholische Kirche\, \,
TRANSP:OPAQUE
SEQUENCE:0
UID:13055-veranstaltung@ref-rueschlikon.ch
DTSTAMP:20260409T125058Z
DESCRIPTION:Einladung zum Senioren-Nachmittag  \n\n«Mys nächschte
  Lied...» \nEine Hommage an Mani Matter\n\nMittwoch\,6. Mai 2026\n14.30
  Uhr\nKatholische Kirche\n\nZur Würdigung des bekanntesten Liedermachers
  der Schweiz und anlässlich seines 90. Geburtstags präsentiert Andreas
  Aeschlimann sein aktuelles Programm „Mys nächschte Lied…“.\n\nMit
  viel Gespür für die besondere Mischung aus Humor und Tiefsinn lässt er
  die unvergesslichen Chansons von Mani Matter neu aufleben. Ergänzt durch
  kurze\, einfühlsame Zwischentexte entsteht ein stimmungsvoller
  Nachmittag voller Erinnerungen\, Schmunzeln und Nachdenklichkeit – und
  eine schöne Gelegenheit\, Mani Matter neu oder wieder zu entdecken.\n
 \nAuch jüngere Teilnehmende sind herzlich willkommen!\n\n\n\n\nAndré
  Jacober	078 804 63 67     andre.jacober@kath-tharue.ch\nIsabella
  Schmidt	044 724 10 28     isabella.schmidt@refrueschlikon.ch\n\n
 \nKontakt: Isabella Schmidt\n\nWeitere Infos:
  https://www.ref-rueschlikon.ch/veranstaltung/13055
SUMMARY:Senioren-Nachmittag
PRIORITY:5
X-MICROSOFT-CDO-IMPORTANCE:1
CLASS:PUBLIC
END:VEVENT
END:VCALENDAR
