BEGIN:VCALENDAR
PRODID:-//kirchenweb.ch gmbh//veranstaltungsausgabe v2.0//DE
VERSION:2.0
METHOD:PUBLISH
BEGIN:VEVENT
DTSTART:20260526T123000Z
DTEND:20260526T150000Z
LOCATION:Kirchenstube\, Bahnhofstrasse 39\, 8803 Rüschlikon
TRANSP:OPAQUE
SEQUENCE:0
UID:13048-veranstaltung@ref-rueschlikon.ch
DTSTAMP:20251009T123104Z
DESCRIPTION:Kaffee-Gespräche ist ein Angebot für Menschen\, die
  persönliche Gespräche untereinander schätzen und gerne ein Stück
  ihrer Lebensgeschichte mit anderen Teilen möchten.\n\nKommen Sie vorbei
  und erzählen Sie uns Ihre Geschichten oder hören Sie einander beim
  Erzählen zu.\n\nWir erzählen einander aus unserem Leben.\n\nDas Angebot
  findet einmal pro Monat am Dienstagnachmittag jeweils von 14.30 – 17.00
  Uhr bei uns in der Kirchenstube oder im Bistro «Jakob» im AbeggHuss
  statt.\n\nDer Nachmittag ist jeweils einem ausgesuchten Thema gewidmet
  welches spontan festgelegt wird.\n\nDie Kaffee-Gespräche stehen allen
  offen\, die sich gerne in ungezwungener Atmosphäre mit anderen
  austauschen und eigene Lebenserfahrungen mit anderen teilen möchten.\n
 \nDie Kaffee-Gespräche sollen dabei helfen\, einander besser
  kennenzulernen und voneinander zu lernen. Dafür braucht es beides:
  Zuhörende und Erzählende. Durch den respektvollen Austausch wird das
  Gemeinschaftsgefühl und das Gegenseitige Vertrauen innerhalb der Gruppe
  gestärkt. Die Anwesenden bekommen Einblicke in andere Lebensbiografien\,
  machen neue Begegnungen und lernen Akzeptanz.\n\nIm Anschluss lassen wir
  den Nachmittag bei einer Tasse Kaffee oder Tee und einem Stück Kuchen
  gemütlich ausklingen.\n\nModeration & Auskunft: Isabella Schmidt
  isabella.schmidt@refrueschlikon.ch 044 724 10 28\n\nOrt: Reformierte
  Kirche\, Kirchenstube / * Bistro «Jakob» im Abegg Huus\nAnmeldung: Es
  ist keine Anmeldung erforderlich.\nAuskunft: Isabella Schmidt\,
  isabella.schmidt@refrueschlikon.ch\, 044 724 10 28\n\n\nKontakt: Isabella
  Schmidt\n\nWeitere Infos:
  https://www.ref-rueschlikon.ch/veranstaltung/13048
SUMMARY:Kaffee-Gespräche
PRIORITY:5
X-MICROSOFT-CDO-IMPORTANCE:1
CLASS:PUBLIC
END:VEVENT
END:VCALENDAR
