BEGIN:VCALENDAR
PRODID:-//kirchenweb.ch gmbh//veranstaltungsausgabe v2.0//DE
VERSION:2.0
METHOD:PUBLISH
BEGIN:VEVENT
DTSTART:20260521T101500Z
DTEND:20260521T111500Z
LOCATION:Kirchenstube\, Bahnhofstrasse 39\, 8803 Rüschlikon
TRANSP:OPAQUE
SEQUENCE:0
UID:13030-veranstaltung@ref-rueschlikon.ch
DTSTAMP:20251008T113508Z
DESCRIPTION:Kosten: 15 Franken/Person für ein 3-Gang-Menu\, Mineralwasser
  und Kaffee\n\nAnmeldung erbeten bis Dienstagmittag: Isabella Schmidt\,
  044 724 10 28\, isabella.schmidt@refrueschlikon.ch\n\nKontakt: Isabella
  Schmidt\n\nWeitere Infos:
  https://www.ref-rueschlikon.ch/veranstaltung/13030
SUMMARY:Senioren-Zmittag
PRIORITY:5
X-MICROSOFT-CDO-IMPORTANCE:1
CLASS:PUBLIC
END:VEVENT
END:VCALENDAR
