BEGIN:VCALENDAR
PRODID:-//kirchenweb.ch gmbh//veranstaltungsausgabe v2.0//DE
VERSION:2.0
METHOD:PUBLISH
BEGIN:VEVENT
DTSTART:20260403T130000Z
DTEND:20260403T133000Z
LOCATION:AbeggHuus\, Alte Landstrasse 68\, \,
TRANSP:OPAQUE
SEQUENCE:0
UID:13005-veranstaltung@ref-rueschlikon.ch
DTSTAMP:20251007T101031Z
DESCRIPTION:KARFREITAG - Andacht mit Abendmahl\n\nZeit:	15.00 bis 15.30
  Uhr\nOrt:	Gymnastikraum\, AbeggHuus\n\nWir bieten Ihnen regelmässig eine
  öffentliche Andacht - eine willkommene Unterbrechung des Alltags\, in
  welcher vertraute Lieder und Worte Zuspruch und Zuversicht geben.\n
 \nZeiten generell (ausser Karfreitag!):\nZeit:	10.15 bis ca. 10.45 Uhr
 \nOrt:	Gymnastikraum\, AbeggHuus\n\nDie Andachten werden abwechselnd von
  der reformierten Kirchgemeinde und der Pfarrei Rüschlikon gestaltet. Als
  ökumenisches Team freuen wir uns über alle\, die mit uns feiern\, egal
  welcher Konfession Sie angehören. Auch Interessierte ausserhalb des
  AbeggHuus sind herzlich willkommen.\n\n\nKontakt: Pfr. Ralph Müller\n
 \nWeitere Infos: https://www.ref-rueschlikon.ch/veranstaltung/13005
SUMMARY:Andacht mit Abendmahl im AbeggHuus - Karfreitag
PRIORITY:5
X-MICROSOFT-CDO-IMPORTANCE:1
CLASS:PUBLIC
END:VEVENT
END:VCALENDAR
