BEGIN:VCALENDAR
PRODID:-//kirchenweb.ch gmbh//veranstaltungsausgabe v2.0//DE
VERSION:2.0
METHOD:PUBLISH
BEGIN:VEVENT
DTSTART:20260508T081500Z
DTEND:20260508T084500Z
LOCATION:AbeggHuus\, Alte Landstrasse 68\, \,
TRANSP:OPAQUE
SEQUENCE:0
UID:12996-veranstaltung@ref-rueschlikon.ch
DTSTAMP:20251007T100544Z
DESCRIPTION:Wir bieten Ihnen regelmässig eine öffentliche Andacht - eine
  willkommene Unterbrechung des Alltags\, in welcher vertraute Lieder und
  Worte Zuspruch und Zuversicht geben.\n\nZeit:	10.15 bis ca. 10.45 Uhr
 \nOrt:	Gymnastikraum\, AbeggHuus\n\nDie Andachten werden abwechselnd von
  der reformierten Kirchgemeinde und der Pfarrei Rüschlikon gestaltet. Als
  ökumenisches Team freuen wir uns über alle\, die mit uns feiern\, egal
  welcher Konfession Sie angehören. Auch Interessierte ausserhalb des
  AbeggHuus sind herzlich willkommen.\n\n\nKontakt: Pfr. Josip Knežević\n
 \nWeitere Infos: https://www.ref-rueschlikon.ch/veranstaltung/12996
SUMMARY:Andacht im AbeggHuus
PRIORITY:5
X-MICROSOFT-CDO-IMPORTANCE:1
CLASS:PUBLIC
END:VEVENT
END:VCALENDAR
