BEGIN:VCALENDAR
PRODID:-//kirchenweb.ch gmbh//veranstaltungsausgabe v2.0//DE
VERSION:2.0
METHOD:PUBLISH
BEGIN:VEVENT
DTSTART:20261213T160000Z
DTEND:20261213T170000Z
LOCATION:Reformierte Kirche\, \,
TRANSP:OPAQUE
SEQUENCE:0
UID:12781-veranstaltung@ref-rueschlikon.ch
DTSTAMP:20250626T134453Z
DESCRIPTION:Kontakt: Pfr. Ralph Müller\n\nWeitere Infos:
  https://www.ref-rueschlikon.ch/veranstaltung/12781
SUMMARY:Krippenspiel 2026
PRIORITY:5
X-MICROSOFT-CDO-IMPORTANCE:1
CLASS:PUBLIC
END:VEVENT
END:VCALENDAR
