BEGIN:VCALENDAR
PRODID:-//kirchenweb.ch gmbh//veranstaltungsausgabe v2.0//DE
VERSION:2.0
METHOD:PUBLISH
BEGIN:VEVENT
DTSTART:20261224T160000Z
DTEND:20261224T170000Z
LOCATION:Reformierte Kirche\, \,
TRANSP:OPAQUE
SEQUENCE:0
UID:12772-veranstaltung@ref-rueschlikon.ch
DTSTAMP:20251117T160937Z
DESCRIPTION:Festliche Weihnachtslieder\n\nKontakt: Pfr. Ralph Müller\n
 \nWeitere Infos: https://www.ref-rueschlikon.ch/veranstaltung/12772
SUMMARY:Familiengottesdienst am Heiligabend
PRIORITY:5
X-MICROSOFT-CDO-IMPORTANCE:1
CLASS:PUBLIC
END:VEVENT
END:VCALENDAR
