BEGIN:VCALENDAR
PRODID:-//kirchenweb.ch gmbh//veranstaltungsausgabe v2.0//DE
VERSION:2.0
METHOD:PUBLISH
BEGIN:VEVENT
DTSTART:20261213T090000Z
DTEND:20261213T100000Z
LOCATION:Reformierte Kirche\, Bahnhofstrasse 39\, 8803 Rüschlikon
TRANSP:OPAQUE
SEQUENCE:0
UID:12770-veranstaltung@ref-rueschlikon.ch
DTSTAMP:20251215T142540Z
DESCRIPTION:Gottesdienst\n\nKontakt: Pfr. Ralph Müller\n\nWeitere Infos:
  https://www.ref-rueschlikon.ch/veranstaltung/12770
SUMMARY:Gottesdienst zum 3. Advent
PRIORITY:5
X-MICROSOFT-CDO-IMPORTANCE:1
CLASS:PUBLIC
END:VEVENT
END:VCALENDAR
