BEGIN:VCALENDAR
PRODID:-//kirchenweb.ch gmbh//veranstaltungsausgabe v2.0//DE
VERSION:2.0
METHOD:PUBLISH
BEGIN:VEVENT
DTSTART:20261122T090000Z
DTEND:20261122T100000Z
LOCATION:Reformierte Kirche\, \,
TRANSP:OPAQUE
SEQUENCE:0
UID:12764-veranstaltung@ref-rueschlikon.ch
DTSTAMP:20251215T142424Z
DESCRIPTION:Kontakt: Pfr. Ralph Müller\n\nWeitere Infos:
  https://www.ref-rueschlikon.ch/veranstaltung/12764
SUMMARY:Gottesdienst am Ewigkeitssonntag
PRIORITY:5
X-MICROSOFT-CDO-IMPORTANCE:1
CLASS:PUBLIC
END:VEVENT
END:VCALENDAR
