BEGIN:VCALENDAR
PRODID:-//kirchenweb.ch gmbh//veranstaltungsausgabe v2.0//DE
VERSION:2.0
METHOD:PUBLISH
BEGIN:VEVENT
DTSTART:20260920T080000Z
DTEND:20260920T090000Z
LOCATION:Katholische Kirche\, \,
TRANSP:OPAQUE
SEQUENCE:0
UID:12760-veranstaltung@ref-rueschlikon.ch
DTSTAMP:20251218T153527Z
DESCRIPTION:Wechsel ökumenisches Projekt\n\nKontakt: Pfr. Ralph Müller
 \nPfr. Josip Knežević\n\nWeitere Infos:
  https://www.ref-rueschlikon.ch/veranstaltung/12760
SUMMARY:Gottesdienst zum Eidg. Dank\,- Buss und Bettag
PRIORITY:5
X-MICROSOFT-CDO-IMPORTANCE:1
CLASS:PUBLIC
END:VEVENT
END:VCALENDAR
