BEGIN:VCALENDAR
PRODID:-//kirchenweb.ch gmbh//veranstaltungsausgabe v2.0//DE
VERSION:2.0
METHOD:PUBLISH
BEGIN:VEVENT
DTSTART:20260514T080000Z
DTEND:20260514T090000Z
LOCATION:Reformierte Kirche\, \,
TRANSP:OPAQUE
SEQUENCE:0
UID:12756-veranstaltung@ref-rueschlikon.ch
DTSTAMP:20260409T074646Z
DESCRIPTION:Kontakt: Pfr. Ralph Müller\n\nWeitere Infos:
  https://www.ref-rueschlikon.ch/veranstaltung/12756
SUMMARY:Auffahrts-Gottesdienst
PRIORITY:5
X-MICROSOFT-CDO-IMPORTANCE:1
CLASS:PUBLIC
END:VEVENT
END:VCALENDAR
