BEGIN:VCALENDAR
PRODID:-//kirchenweb.ch gmbh//veranstaltungsausgabe v2.0//DE
VERSION:2.0
METHOD:PUBLISH
BEGIN:VEVENT
DTSTART:20260510T080000Z
DTEND:20260510T090000Z
LOCATION:Reformierte Kirche\, Bahnhofstrasse 39\, 8803 Rüschlikon
TRANSP:OPAQUE
SEQUENCE:0
UID:12755-veranstaltung@ref-rueschlikon.ch
DTSTAMP:20251223T085312Z
DESCRIPTION:Gottesdienst\n\nKontakt: Pfr. Walter Schlegel\n\nWeitere
  Infos: https://www.ref-rueschlikon.ch/veranstaltung/12755
SUMMARY:Gottesdienst
PRIORITY:5
X-MICROSOFT-CDO-IMPORTANCE:1
CLASS:PUBLIC
END:VEVENT
END:VCALENDAR
