BEGIN:VCALENDAR
PRODID:-//kirchenweb.ch gmbh//veranstaltungsausgabe v2.0//DE
VERSION:2.0
METHOD:PUBLISH
BEGIN:VEVENT
DTSTART:20260402T170000Z
DTEND:20260402T174500Z
LOCATION:Reformierte Kirche\, \,
TRANSP:OPAQUE
SEQUENCE:0
UID:12751-veranstaltung@ref-rueschlikon.ch
DTSTAMP:20260319T145622Z
DESCRIPTION:«Das letzte Mahl – Nehmt\, das ist mein Leib» (Markus 14\,
  22)\n\nKontakt: Pfr. Ralph Müller\n\n\nWeitere Infos:
  https://www.ref-rueschlikon.ch/veranstaltung/12751
SUMMARY:Passionsandacht mit Abendmahl
PRIORITY:5
X-MICROSOFT-CDO-IMPORTANCE:1
CLASS:PUBLIC
END:VEVENT
END:VCALENDAR
