BEGIN:VCALENDAR
PRODID:-//kirchenweb.ch gmbh//veranstaltungsausgabe v2.0//DE
VERSION:2.0
METHOD:PUBLISH
BEGIN:VEVENT
DTSTART:20260401T170000Z
DTEND:20260401T174500Z
LOCATION:Reformierte Kirche\, \,
TRANSP:OPAQUE
SEQUENCE:0
UID:12750-veranstaltung@ref-rueschlikon.ch
DTSTAMP:20260319T145618Z
DESCRIPTION:«Angst – Lass diesen Kelch an mir vorübergehen!...und  er
  begann zu zittern und zu zagen» (Markus 14\, 33f)\n\nKontakt: Pfr. Ralph
  Müller\n\n\nWeitere Infos:
  https://www.ref-rueschlikon.ch/veranstaltung/12750
SUMMARY:Passionsandacht
PRIORITY:5
X-MICROSOFT-CDO-IMPORTANCE:1
CLASS:PUBLIC
END:VEVENT
END:VCALENDAR
