BEGIN:VCALENDAR
PRODID:-//kirchenweb.ch gmbh//veranstaltungsausgabe v2.0//DE
VERSION:2.0
METHOD:PUBLISH
BEGIN:VEVENT
DTSTART:20260301T090000Z
DTEND:20260301T100000Z
LOCATION:Reformierte Kirche\, \,
TRANSP:OPAQUE
SEQUENCE:0
UID:12746-veranstaltung@ref-rueschlikon.ch
DTSTAMP:20260224T084928Z
DESCRIPTION:Einladung zur Fasnachtspredigt am 1. März 10:00 Uhr\n\nAm
  erschte Määrz\, das heersch genau\,\nwird dr Gottesdienscht wird bunt
  und andersch au\n\nMit Reim\, Sinn und Humor\nkemme Gott und d’Fasnacht
  drinne vor\n\nD’Wält\, dr Alltag und dr Glaube\, kunnt mitenand\nDas
  isch für mänge e biz allerhand\n\nDoch kei Angscht\, mit Respäkt soll
  das gscheh\nEs soll jo niemerdem mache weh\n\nDerzue gits fasnächtlichi
  Musik\nAber au Kirchelieder hämr im Blick\n\nAlso freu Di und kumm verby
 \nDenn kasch au das Johr si mitderby\n\nIm Aschluss gits sogar e Apéro\,
  hejoh\ndä macht uns denn no alli froh\n\nPfr. Ralph Müller freut sich
  über alle\, die zum Gottesdienst kommen.\n\n\nKontakt: Pfr. Ralph
  Müller\n\nWeitere Infos:
  https://www.ref-rueschlikon.ch/veranstaltung/12746
SUMMARY:Fasnachts-Gottesdienst
PRIORITY:5
X-MICROSOFT-CDO-IMPORTANCE:1
CLASS:PUBLIC
END:VEVENT
END:VCALENDAR
