BEGIN:VCALENDAR
PRODID:-//kirchenweb.ch gmbh//veranstaltungsausgabe v2.0//DE
VERSION:2.0
METHOD:PUBLISH
BEGIN:VEVENT
DTSTART:20260424T163000Z
DTEND:20260424T170000Z
LOCATION:Reformierte Kirche\, \,
TRANSP:OPAQUE
SEQUENCE:0
UID:12734-veranstaltung@ref-rueschlikon.ch
DTSTAMP:20260416T125925Z
DESCRIPTION:Monatlich\, freitagabends\, feiern wir Vespergottesdienste\,
  die mit mehr Musik als Worten zu verschiedenen Themenschwerpunkten
  gestaltet sind. Lassen Sie sich überraschen und inspirieren!\n\nWussten
  Sie?...\n\n"Unter der Freitagsvesper versteht man eine besondere Form der
  Vesper\, also des Abendgebets in der christlichen Liturgie\, die speziell
  am Freitag gefeiert wird.\n\nDie Vesper ist Teil des täglichen
  Stundengebets (auch „Liturgie der Stunden“) und wird typischerweise
  am späten Nachmittag oder Abend gebetet. Wenn sie freitags gefeiert
  wird\, bekommt sie oft eine zusätzliche Bedeutung:\n\nDer Freitag
  erinnert im Christentum an den Tod Jesu Christi am Kreuz.\nDeshalb ist
  die Freitagsvesper häufig geprägt von Besinnung\, Busse und Gedenken an
  das Leiden Christi."\n\nKontakt: Christian Scheifele\n\nWeitere Infos:
  https://www.ref-rueschlikon.ch/veranstaltung/12734
SUMMARY:Freitagsvesper - "Wie klingt Ostern?"
PRIORITY:5
X-MICROSOFT-CDO-IMPORTANCE:1
CLASS:PUBLIC
END:VEVENT
END:VCALENDAR
