BEGIN:VCALENDAR
PRODID:-//kirchenweb.ch gmbh//veranstaltungsausgabe v2.0//DE
VERSION:2.0
METHOD:PUBLISH
BEGIN:VEVENT
DTSTART:20261115T090000Z
DTEND:20261115T100000Z
LOCATION:Reformierte Kirche\, Bahnhofstrasse\, 39 Rüschlikon
TRANSP:OPAQUE
SEQUENCE:0
UID:12729-veranstaltung@ref-rueschlikon.ch
DTSTAMP:20260409T135234Z
DESCRIPTION:Gottesdienst\n\nKontakt: Pfr. Christian Frei\n\nWeitere Infos:
  https://www.ref-rueschlikon.ch/veranstaltung/12729
SUMMARY:Gottesdienst
PRIORITY:5
X-MICROSOFT-CDO-IMPORTANCE:1
CLASS:PUBLIC
END:VEVENT
END:VCALENDAR
