BEGIN:VCALENDAR
PRODID:-//kirchenweb.ch gmbh//veranstaltungsausgabe v2.0//DE
VERSION:2.0
METHOD:PUBLISH
BEGIN:VEVENT
DTSTART:20260913T080000Z
DTEND:20260913T090000Z
LOCATION:Reformierte Kirche\, Bahnhofstrasse\, 39 Rüschlikon
TRANSP:OPAQUE
SEQUENCE:0
UID:12724-veranstaltung@ref-rueschlikon.ch
DTSTAMP:20260409T134152Z
DESCRIPTION:Gottesdienst\n\nKontakt: Pfr. Walter Schlegel\n\nWeitere
  Infos: https://www.ref-rueschlikon.ch/veranstaltung/12724
SUMMARY:Gottesdienst
PRIORITY:5
X-MICROSOFT-CDO-IMPORTANCE:1
CLASS:PUBLIC
END:VEVENT
END:VCALENDAR
