BEGIN:VCALENDAR
PRODID:-//kirchenweb.ch gmbh//veranstaltungsausgabe v2.0//DE
VERSION:2.0
METHOD:PUBLISH
BEGIN:VEVENT
DTSTART:20260426T080000Z
DTEND:20260426T090000Z
LOCATION:Reformierte Kirche\, Bahnhofstrasse\, 39 Rüschlikon
TRANSP:OPAQUE
SEQUENCE:0
UID:12708-veranstaltung@ref-rueschlikon.ch
DTSTAMP:20260407T084105Z
DESCRIPTION:Gottesdienst\n\nKontakt: Pfrn. Annemarie Wiehmann\n\nWeitere
  Infos: https://www.ref-rueschlikon.ch/veranstaltung/12708
SUMMARY:Gottesdienst
PRIORITY:5
X-MICROSOFT-CDO-IMPORTANCE:1
CLASS:PUBLIC
END:VEVENT
END:VCALENDAR
