BEGIN:VCALENDAR
PRODID:-//kirchenweb.ch gmbh//veranstaltungsausgabe v2.0//DE
VERSION:2.0
METHOD:PUBLISH
BEGIN:VEVENT
DTSTART:20260201T090000Z
DTEND:20260201T100000Z
LOCATION:Reformierte Kirche\, Bahnhofstrasse\, 39 Rüschlikon
TRANSP:OPAQUE
SEQUENCE:0
UID:12701-veranstaltung@ref-rueschlikon.ch
DTSTAMP:20251223T085058Z
DESCRIPTION:Gottesdienst\n\nKontakt: Pfr. Ralph Müller\n\nWeitere Infos:
  https://www.ref-rueschlikon.ch/veranstaltung/12701
SUMMARY:Gottesdienst
PRIORITY:5
X-MICROSOFT-CDO-IMPORTANCE:1
CLASS:PUBLIC
END:VEVENT
END:VCALENDAR
