BEGIN:VCALENDAR
PRODID:-//kirchenweb.ch gmbh//veranstaltungsausgabe v2.0//DE
VERSION:2.0
METHOD:PUBLISH
BEGIN:VEVENT
DTSTART:20260329T080000Z
DTEND:20260329T090000Z
LOCATION:Reformierte Kirche\, \,
TRANSP:OPAQUE
SEQUENCE:0
UID:12596-veranstaltung@ref-rueschlikon.ch
DTSTAMP:20260324T114828Z
DESCRIPTION:3. Klass Unti Abendmahls-Gottesdienst am Palmsonntag\n\nAm 29.
  März feiern wir mit den Kindern des 3. Klass-Unti den
  Abendmahls-Gottesdienst. In den Vorbereitungsstunden besprechen wir
  jeweils\, wie das Abendmahl entstanden ist und was seine Botschaften
  sind.\n\nDabei wollen wir auch in diesem Jahr die Gemeinschaft
  herausheben\, welche Jesus am Tisch gelebt hat. Gerade das Abendmahl
  zeigt uns\, dass wir über alle Grenzen hinweg Gemeinschaft haben
  können\, denn Jesus Christus lädt jeden Menschen zum Abendmahl ein. Aus
  der Bibel werden wir beispielhaft zeigen\, wie das möglich wurde. \n
 \nSie sind herzlich eingeladen\, mit den Kindern diesen bunten
  Gottesdienst zu feiern.\n\nDie Katechetinnen Tamara Würgler und Eva
  Krull mit Pfarrer Ralph Müller freuen sich auf Ihre Teilnahme.\n\n\n
 \nKontakt: Pfr. Ralph Müller\n\nWeitere Infos:
  https://www.ref-rueschlikon.ch/veranstaltung/12596
SUMMARY:3. Klass-Unti Abendmahl-Gottesdienst zum Palmsonntag
PRIORITY:5
X-MICROSOFT-CDO-IMPORTANCE:1
CLASS:PUBLIC
END:VEVENT
END:VCALENDAR
