BEGIN:VCALENDAR
PRODID:-//kirchenweb.ch gmbh//veranstaltungsausgabe v2.0//DE
VERSION:2.0
METHOD:PUBLISH
BEGIN:VEVENT
DTSTART:20260328T080000Z
DTEND:20260328T110000Z
LOCATION:Reformierte Kirche\, \,
TRANSP:OPAQUE
SEQUENCE:0
UID:12589-veranstaltung@ref-rueschlikon.ch
DTSTAMP:20260310T101151Z
DESCRIPTION:Mit spannenden Geschichten\, Spielen und Gesang entdecken wir
  gemeinsam den Glauben und helfen bei der Vorbereitung der Gottesdienste
  im Kirchenjahr mit.\n\nHEUTE: WIr backen Brot für das Abendmahl am
  Oster-Gottesdienst\n\nOstern ist ein besonderes Fest. Wir erinnern uns
  daran\, dass Jesus seine Freunde sehr lieb hatte.\nEinmal teilte er mit
  ihnen Brot und sagte: „Wenn ihr dieses Brot esst\, denkt an mich und
  daran\, wie sehr Gott euch liebt.“\nDarum backen wir heute Brot für
  das Abendmahl.\nWenn wir das Brot teilen\, denken wir daran: Gott liebt
  uns und wir gehören zusammen.\n\nWir freuen uns über viele Kinder\, die
  mitmachen möchten 🙂...\n\nAnmeldung über den
  https://www.pfefferstern.ch/ch oder http://www.refrueschlikon.ch\n
 \nKontakt: Tamara Würgler\n\nWeitere Infos:
  https://www.ref-rueschlikon.ch/veranstaltung/12589
SUMMARY:Chinder-Chile & 3. Klass-Unti Vorbereitung Abendmahl-GD
PRIORITY:5
X-MICROSOFT-CDO-IMPORTANCE:1
CLASS:PUBLIC
END:VEVENT
END:VCALENDAR
