BEGIN:VCALENDAR
PRODID:-//kirchenweb.ch gmbh//veranstaltungsausgabe v2.0//DE
VERSION:2.0
METHOD:PUBLISH
BEGIN:VEVENT
DTSTART:20260510T150000Z
DTEND:20260510T160000Z
LOCATION:Reformierte Kirche\, \,
TRANSP:OPAQUE
SEQUENCE:0
UID:12547-veranstaltung@ref-rueschlikon.ch
DTSTAMP:20260309T120622Z
DESCRIPTION:Benefizkonzert\nMusikalischer Frühlingsreigen zum Muttertag\n
  \nEs ist wieder so weit!\n\nAlle Musikbegeisterten sind zu einem neuen
  Frühlingsreigen am Muttertag eingeladen.\n\nLassen Sie sich ein auf ein
  besonderes Konzert mit unterschiedlichen Darbietungen talentierter und
  engagierter Musiker/innen\, wie z.B. Michal Stanikowski an der Gitarre
  und Rahel Klein am Cello.\nSie dürfen auch wieder mitgestalten und Ihre
  Stimmen froh erklingen lassen.\n\nDas Konzert wird vom Posaunenchor
  Nidelbad beschwingt eröffnet und beendet. Durch das Programm führt
  unser Organist Christian Scheifele in gewohnt humorvoller Weise.\n
 \nGeniessen Sie anschliessend Wurst\, Brot und ein Getränk bei frohem
  Zusammensein.\n\nEintitt frei\, Kollekte zu Gunsten des Projektes «Hope
  for Children Pakistan».\n\nSonntag\, 10. Mai 2026\, 17.00 Uhr in der
  Reformierten Kirche.\n\n\nKontakt: Christian Scheifele\n\nWeitere Infos:
  https://www.ref-rueschlikon.ch/veranstaltung/12547
SUMMARY:Benefizkonzert "Musikalischer Frühlingsreigen"
PRIORITY:5
X-MICROSOFT-CDO-IMPORTANCE:1
CLASS:PUBLIC
END:VEVENT
END:VCALENDAR
